BEGIN:VCALENDAR
VERSION:2.0
PRODID:-//Nagy Hód Vízitúra - ECPv6.15.20//NONSGML v1.0//EN
CALSCALE:GREGORIAN
METHOD:PUBLISH
X-ORIGINAL-URL:https://www.szeldavizet.hu
X-WR-CALDESC:Események Nagy Hód Vízitúra
REFRESH-INTERVAL;VALUE=DURATION:PT1H
X-Robots-Tag:noindex
X-PUBLISHED-TTL:PT1H
BEGIN:VTIMEZONE
TZID:UTC
BEGIN:STANDARD
TZOFFSETFROM:+0000
TZOFFSETTO:+0000
TZNAME:UTC
DTSTART:20250101T000000
END:STANDARD
END:VTIMEZONE
BEGIN:VEVENT
DTSTART;TZID=UTC:20260905T094500
DTEND;TZID=UTC:20260905T160000
DTSTAMP:20260423T193925
CREATED:20260201T172448Z
LAST-MODIFIED:20260201T172448Z
UID:987488712-1788601500-1788624000@www.szeldavizet.hu
SUMMARY:Kölcse-Túristvándi egynapos Túr vízitúra 09.05.
DESCRIPTION:Kölcse-Túristvándi egynapos Túr vízitúra\n\n             2026. Sep 05.\, Saturday 15 km\n        \n \n\n        \n    \n\nA Túr lassú folyása és bedőlt fái kicsit technikásabbá teszik ugyan a távot\, de ha van egy talpraesett kormányos a hajóban\, végig tudjátok manőverezni ezt a vízitúra szakaszt is. Garantáltan átérzitek majd a Túr esetében sokszor emlegetett „vadregényes” hangulatot. Kenutúránk végén a sonkádi Kisbukó vizénél hűsíthetitek le magatokat. \n \n\n\n             5-6 óra\n             Közepes nehézség\n             Családoknak is\n        \n        BővebbenJelentkezés a vízitúrára
URL:https://www.szeldavizet.hu/vizitura-naptar/kolcse-turistvandi-egynapos-tur-vizitura-09-05/
LOCATION:Kölcse
CATEGORIES:Vízitúra
ORGANIZER;CN="Nagy H%C3%B3d V%C3%ADzit%C3%BAra":MAILTO:info@szeldavizet.hu
END:VEVENT
END:VCALENDAR