BEGIN:VCALENDAR
VERSION:2.0
PRODID:-//Nagy Hód Vízitúra - ECPv6.15.20//NONSGML v1.0//EN
CALSCALE:GREGORIAN
METHOD:PUBLISH
X-ORIGINAL-URL:https://www.szeldavizet.hu
X-WR-CALDESC:Események Nagy Hód Vízitúra
REFRESH-INTERVAL;VALUE=DURATION:PT1H
X-Robots-Tag:noindex
X-PUBLISHED-TTL:PT1H
BEGIN:VTIMEZONE
TZID:UTC
BEGIN:STANDARD
TZOFFSETFROM:+0000
TZOFFSETTO:+0000
TZNAME:UTC
DTSTART:20250101T000000
END:STANDARD
END:VTIMEZONE
BEGIN:VEVENT
DTSTART;TZID=UTC:20260606T094500
DTEND;TZID=UTC:20260606T160000
DTSTAMP:20260423T151808
CREATED:20260201T164912Z
LAST-MODIFIED:20260201T171442Z
UID:987488647-1780739100-1780761600@www.szeldavizet.hu
SUMMARY:Nagyhódos-Sonkád egynapos Túr vízitúra 06.06.
DESCRIPTION:Nagyhódos-Sonkád egynapos Túr vízitúra\n\n             2026. June 06.\, Saturday 14 km\n        \n \n\n        \n    \n\nEgynapos vízitúra azoknak\, akik egy nem mindennapi kenus kalandra vágynak\, de még nem elég rutinosak\, bátran ajánljuk a Nagyhódos-Sonkád távot. Igazán könnyen evezhető 14 fkm-es vízitúra szakaszról beszélünk. Ha felvértezted magad kellő kitartással és elemózsiával\, akkor ez a táv kimondottan kellemes\, frissítő élményt nyújt! \n \n\n\n             3-4 óra\n             Alacsony nehézség\n             Kezdőknek is\n        \n        BővebbenJelentkezés a vízitúrára
URL:https://www.szeldavizet.hu/vizitura-naptar/nagyhodos-sonkad-egynapos-tur-vizitura-06-06-egynapos-tur-vizitura-06-06/
LOCATION:Nagyhódos\, Kertalja utca 18.\, Nagyhódos\, 4977\, Magyarország
CATEGORIES:Vízitúra
ORGANIZER;CN="Nagy H%C3%B3d V%C3%ADzit%C3%BAra":MAILTO:info@szeldavizet.hu
END:VEVENT
BEGIN:VEVENT
DTSTART;TZID=UTC:20260613T094500
DTEND;TZID=UTC:20260613T160000
DTSTAMP:20260423T151808
CREATED:20260201T164913Z
LAST-MODIFIED:20260201T170204Z
UID:987488648-1781343900-1781366400@www.szeldavizet.hu
SUMMARY:Sonkád-Kölcse egynapos Túr vízitúra 06.13.
DESCRIPTION:Sonkád-Kölcse egynapos Túr vízitúra\n\n             2026. June 13.\, Saturday 12 km\n        \n \n\n        \n    \n\nA Túr lassú folyása és bedőlt fái kicsit technikásabbá teszik ugyan a távot\, de ha van egy talpraesett kormányos a hajóban\, végig tudjátok manőverezni ezt a vízitúra szakaszt is. Garantáltan átérzitek majd a Túr esetében sokszor emlegetett „vadregényes” hangulatot. Kenutúránk végén a sonkádi Kisbukó vizénél hűsíthetitek le magatokat. \n \n\n\n             4-5 óra\n             Közepes nehézség\n             Családoknak is\n        \n        BővebbenJelentkezés a vízitúrára
URL:https://www.szeldavizet.hu/vizitura-naptar/sonkad-kolcse-egynapos-tur-vizitura-06-13-egynapos-tur-vizitura-06-13/
LOCATION:Kölcse
CATEGORIES:Vízitúra
ORGANIZER;CN="Nagy H%C3%B3d V%C3%ADzit%C3%BAra":MAILTO:info@szeldavizet.hu
END:VEVENT
BEGIN:VEVENT
DTSTART;TZID=UTC:20260620T094500
DTEND;TZID=UTC:20260620T160000
DTSTAMP:20260423T151808
CREATED:20260201T164913Z
LAST-MODIFIED:20260201T170307Z
UID:987488649-1781948700-1781971200@www.szeldavizet.hu
SUMMARY:Kölcse-Túristvándi egynapos Túr vízitúra 06.20.
DESCRIPTION:Kölcse-Túristvándi egynapos Túr vízitúra\n\n             2026. June 20.\, Saturday 15 km\n        \n \n\n        \n    \n\nA Túr lassú folyása és bedőlt fái kicsit technikásabbá teszik ugyan a távot\, de ha van egy talpraesett kormányos a hajóban\, végig tudjátok manőverezni ezt a vízitúra szakaszt is. Garantáltan átérzitek majd a Túr esetében sokszor emlegetett „vadregényes” hangulatot. Kenutúránk végén a sonkádi Kisbukó vizénél hűsíthetitek le magatokat. \n \n\n\n             5-6 óra\n             Közepes nehézség\n             Családoknak is\n        \n        BővebbenJelentkezés a vízitúrára
URL:https://www.szeldavizet.hu/vizitura-naptar/kolcse-turistvandi-egynapos-tur-vizitura-06-20-egynapos-tur-vizitura-06-20/
LOCATION:Kölcse
CATEGORIES:Vízitúra
ORGANIZER;CN="Nagy H%C3%B3d V%C3%ADzit%C3%BAra":MAILTO:info@szeldavizet.hu
END:VEVENT
BEGIN:VEVENT
DTSTART;TZID=UTC:20260627T094500
DTEND;TZID=UTC:20260627T160000
DTSTAMP:20260423T151808
CREATED:20260201T164914Z
LAST-MODIFIED:20260201T170326Z
UID:987488650-1782553500-1782576000@www.szeldavizet.hu
SUMMARY:Nagyhódos-Sonkád egynapos Túr vízitúra 06.27.
DESCRIPTION:Nagyhódos-Sonkád egynapos Túr vízitúra\n\n             2026. June 27.\, Saturday 14 km\n        \n \n\n        \n    \n\nEgynapos vízitúra azoknak\, akik egy nem mindennapi kenus kalandra vágynak\, de még nem elég rutinosak\, bátran ajánljuk a Nagyhódos-Sonkád távot. Igazán könnyen evezhető 14 fkm-es vízitúra szakaszról beszélünk. Ha felvértezted magad kellő kitartással és elemózsiával\, akkor ez a táv kimondottan kellemes\, frissítő élményt nyújt! \n \n\n\n             3-4 óra\n             Alacsony nehézség\n             Kezdőknek is\n        \n        BővebbenJelentkezés a vízitúrára
URL:https://www.szeldavizet.hu/vizitura-naptar/nagyhodos-sonkad-egynapos-tur-vizitura-06-27-egynapos-tur-vizitura-06-27/
LOCATION:Nagyhódos\, Kertalja utca 18.\, Nagyhódos\, 4977\, Magyarország
CATEGORIES:Vízitúra
ORGANIZER;CN="Nagy H%C3%B3d V%C3%ADzit%C3%BAra":MAILTO:info@szeldavizet.hu
END:VEVENT
BEGIN:VEVENT
DTSTART;TZID=UTC:20260628T094500
DTEND;TZID=UTC:20260628T130000
DTSTAMP:20260423T151808
CREATED:20260201T164914Z
LAST-MODIFIED:20260201T170407Z
UID:987488651-1782639900-1782651600@www.szeldavizet.hu
SUMMARY:Nagyhódos-Garbolc-Nagyhódos egynapos Túr vízitúra 06.28.
DESCRIPTION:Nagyhódos-Garbolc-Nagyhódos mini Túr vízitúra\n\n             2026. June 28.\, Sunday 5 km\n        \n \n\n        \n    \n\nTökéletes táv ahhoz\, hogy belekóstolj a kenuzás életérzésébe és megismerkedj az evezéssel. Elbizonytalanodtál\, hogy a gyerekeknek lenne-e kitartása egy hosszabb vízitúra távhoz? Vagy még magadban sem bízol? Ez egy remek szakasz arra\, hogy kipróbáld a kenuzást! Az evezés után pedig még kitöltheted a napod egy kis biciklizéssel\, vagy strandolással is. \n \n\n\n             1-2 óra\n             Kezdő szint\n             Gyerekekkel ideális\n        \n        BővebbenJelentkezés a vízitúrára
URL:https://www.szeldavizet.hu/vizitura-naptar/nagyhodos-garbolc-nagyhodos-egynapos-tur-vizitura-06-28-egynapos-tur-vizitura-06-28/
LOCATION:Nagyhódos\, Kertalja utca 18.\, Nagyhódos\, 4977\, Magyarország
CATEGORIES:Vízitúra
ORGANIZER;CN="Nagy H%C3%B3d V%C3%ADzit%C3%BAra":MAILTO:info@szeldavizet.hu
END:VEVENT
END:VCALENDAR