BEGIN:VCALENDAR
VERSION:2.0
PRODID:-//Nagy Hód Vízitúra - ECPv6.15.20//NONSGML v1.0//EN
CALSCALE:GREGORIAN
METHOD:PUBLISH
X-WR-CALNAME:Nagy Hód Vízitúra
X-ORIGINAL-URL:https://www.szeldavizet.hu
X-WR-CALDESC:Események Nagy Hód Vízitúra
REFRESH-INTERVAL;VALUE=DURATION:PT1H
X-Robots-Tag:noindex
X-PUBLISHED-TTL:PT1H
BEGIN:VTIMEZONE
TZID:UTC
BEGIN:STANDARD
TZOFFSETFROM:+0000
TZOFFSETTO:+0000
TZNAME:UTC
DTSTART:20230101T000000
END:STANDARD
END:VTIMEZONE
BEGIN:VEVENT
DTSTART;VALUE=DATE:20240907
DTEND;VALUE=DATE:20240908
DTSTAMP:20260423T084704
CREATED:20240228T171050Z
LAST-MODIFIED:20240313T172848Z
UID:854-1725667200-1725753599@www.szeldavizet.hu
SUMMARY:Nagyhódos-Sonkád egynapos Túr vízitúra 09.07.
DESCRIPTION:Egynapos vízitúra azoknak\, akik egy nem mindennapi kenus kalandra vágynak\, de még nem elég rutinosak\, bátran ajánljuk a Nagyhódos-Sonkád távot. Igazán könnyen evezhető 14 fkm-es vízitúra szakaszról beszélünk. Ha felvértezted magad kellő kitartással és kalandvággyal\, a Túr egy feledhetetlen élménnyel hálálja meg evezőcsapásokba burkolt erőfeszítéseidet. \nBővebb infó és\nJelentkezés a vízitúrára
URL:https://www.szeldavizet.hu/vizitura-naptar/nagyhodos-sonkad-tur-vizitura-09-07/
LOCATION:Nagyhódos\, Kertalja utca 18.\, Nagyhódos\, 4977\, Magyarország
CATEGORIES:egynapos vízitúra,Nagyhódos-Sonkád,Túr
ORGANIZER;CN="Nagy H%C3%B3d V%C3%ADzit%C3%BAra":MAILTO:info@szeldavizet.hu
END:VEVENT
BEGIN:VEVENT
DTSTART;VALUE=DATE:20240908
DTEND;VALUE=DATE:20240909
DTSTAMP:20260423T084704
CREATED:20240228T171059Z
LAST-MODIFIED:20240313T172829Z
UID:859-1725753600-1725839999@www.szeldavizet.hu
SUMMARY:Sonkád-Kölcse egynapos Túr vízitúra 09.08.
DESCRIPTION:A Túr lassú folyása és bedőlt fái kicsit technikásabbá teszik ugyan a távot\, de ha van egy talpraesett kormányos a hajóban\, végig tudjátok manőverezni ezt a vízitúra szakaszt is. Garantáltan átérzitek majd a Túr esetében sokszor emlegetett „vadregényes” hangulatot. Kenutúránk végén a sonkádi Kisbukó vizénél hűsíthetitek le magatokat. \nBővebb infó és\nJelentkezés a vízitúrára
URL:https://www.szeldavizet.hu/vizitura-naptar/sonkad-kolcse-tur-vizitura/
LOCATION:Sonkád\, Magyarország
CATEGORIES:egynapos vízitúra,Sonkád-Kölcse,Túr
ORGANIZER;CN="Nagy H%C3%B3d V%C3%ADzit%C3%BAra":MAILTO:info@szeldavizet.hu
END:VEVENT
BEGIN:VEVENT
DTSTART;VALUE=DATE:20240914
DTEND;VALUE=DATE:20240915
DTSTAMP:20260423T084704
CREATED:20240228T171112Z
LAST-MODIFIED:20240313T172807Z
UID:858-1726272000-1726358399@www.szeldavizet.hu
SUMMARY:Kölcse-Túristvándi egynapos Túr vízitúra 09.14.
DESCRIPTION:Rendelkezel már minimális evezési tapasztalattal és vízitúra végén bámészkodnál is kicsit? Akkor ezt a vízitúra szakaszt ajánljuk figyelmedbe. A rendkívül kanyargós mederben minden evezőcsapásunk kalandokkal teli. Kenuzásunk végén a méltán híres Túristvándi vízimalmot is megtekintjük\, hogy még tovább fokozzuk a kedélyeket. \nBővebb infó és\nJelentkezés a vízitúrára
URL:https://www.szeldavizet.hu/vizitura-naptar/vizitura-kolcse-turistvandi-tur-2/
LOCATION:Kölcse
CATEGORIES:egynapos vízitúra,Kölcse-Túristvándi,Túr
ORGANIZER;CN="Nagy H%C3%B3d V%C3%ADzit%C3%BAra":MAILTO:info@szeldavizet.hu
END:VEVENT
END:VCALENDAR