BEGIN:VCALENDAR
VERSION:2.0
PRODID:-//Nagy Hód Vízitúra - ECPv6.15.20//NONSGML v1.0//EN
CALSCALE:GREGORIAN
METHOD:PUBLISH
X-ORIGINAL-URL:https://www.szeldavizet.hu
X-WR-CALDESC:Események Nagy Hód Vízitúra
REFRESH-INTERVAL;VALUE=DURATION:PT1H
X-Robots-Tag:noindex
X-PUBLISHED-TTL:PT1H
BEGIN:VTIMEZONE
TZID:UTC
BEGIN:STANDARD
TZOFFSETFROM:+0000
TZOFFSETTO:+0000
TZNAME:UTC
DTSTART:20240101T000000
END:STANDARD
END:VTIMEZONE
BEGIN:VEVENT
DTSTART;VALUE=DATE:20250906
DTEND;VALUE=DATE:20250907
DTSTAMP:20260423T085506
CREATED:20250214T103113Z
LAST-MODIFIED:20250228T093459Z
UID:987488356-1757116800-1757203199@www.szeldavizet.hu
SUMMARY:Nagyhódos-Sonkád egynapos Túr vízitúra 09.06.
DESCRIPTION:Nagyhódos-Sonkád egynapos Túr vízitúra\n\n             2025. September 06.\, Saturday 14 km\n        \n \n\n        \n    \n\nEgynapos vízitúra azoknak\, akik egy nem mindennapi kenus kalandra vágynak\, de még nem elég rutinosak\, bátran ajánljuk a Nagyhódos-Sonkád távot. Igazán könnyen evezhető 14 fkm-es vízitúra szakaszról beszélünk. Ha felvértezted magad kellő kitartással és elemózsiával\, akkor ez a táv kimondottan kellemes\, frissítő élményt nyújt! \n \n\n\n             3-4 óra\n             Alacsony nehézség\n             Kezdőknek is\n        \n        BővebbenJelentkezés a vízitúrára
URL:https://www.szeldavizet.hu/vizitura-naptar/nagyhodos-sonkad-egynapos-tur-vizitura-09-06/
LOCATION:Nagyhódos\, Kertalja utca 18.\, Nagyhódos\, 4977\, Magyarország
CATEGORIES:egynapos vízitúra,Nagyhódos-Sonkád,Túr
ORGANIZER;CN="Nagy H%C3%B3d V%C3%ADzit%C3%BAra":MAILTO:info@szeldavizet.hu
END:VEVENT
BEGIN:VEVENT
DTSTART;VALUE=DATE:20250913
DTEND;VALUE=DATE:20250914
DTSTAMP:20260423T085506
CREATED:20250214T105617Z
LAST-MODIFIED:20250228T093517Z
UID:987488376-1757721600-1757807999@www.szeldavizet.hu
SUMMARY:Sonkád-Kölcse egynapos Túr vízitúra 09.13.
DESCRIPTION:Sonkád-Kölcse egynapos Túr vízitúra\n\n             2025. September 13.\, Saturday 12 km\n        \n \n\n        \n    \n\nA Túr lassú folyása és bedőlt fái kicsit technikásabbá teszik ugyan a távot\, de ha van egy talpraesett kormányos a hajóban\, végig tudjátok manőverezni ezt a vízitúra szakaszt is. Garantáltan átérzitek majd a Túr esetében sokszor emlegetett „vadregényes” hangulatot. Kenutúránk végén a sonkádi Kisbukó vizénél hűsíthetitek le magatokat. \n \n\n\n             4-5 óra\n             Közepes nehézség\n             Családoknak is\n        \n        BővebbenJelentkezés a vízitúrára
URL:https://www.szeldavizet.hu/vizitura-naptar/sonkad-kolcse-egynapos-tur-vizitura-09-13/
LOCATION:Sonkád\, Magyarország
CATEGORIES:egynapos vízitúra,Sonkád-Kölcse,Túr
ORGANIZER;CN="Nagy H%C3%B3d V%C3%ADzit%C3%BAra":MAILTO:info@szeldavizet.hu
END:VEVENT
BEGIN:VEVENT
DTSTART;VALUE=DATE:20250920
DTEND;VALUE=DATE:20250921
DTSTAMP:20260423T085506
CREATED:20250214T112407Z
LAST-MODIFIED:20250228T093534Z
UID:987488389-1758326400-1758412799@www.szeldavizet.hu
SUMMARY:Kölcse-Túristvándi egynapos Túr vízitúra 09.20.
DESCRIPTION:Kölcse-Túristvándi egynapos Túr vízitúra\n\n             2025. September 20.\, Saturday 15 km\n        \n \n\n        \n    \n\nA Túr lassú folyása és bedőlt fái kicsit technikásabbá teszik ugyan a távot\, de ha van egy talpraesett kormányos a hajóban\, végig tudjátok manőverezni ezt a vízitúra szakaszt is. Garantáltan átérzitek majd a Túr esetében sokszor emlegetett „vadregényes” hangulatot. Kenutúránk végén a sonkádi Kisbukó vizénél hűsíthetitek le magatokat. \n \n\n\n             5-6 óra\n             Közepes nehézség\n             Családoknak is\n        \n        BővebbenJelentkezés a vízitúrára
URL:https://www.szeldavizet.hu/vizitura-naptar/kolcse-turistvandi-egynapos-tur-vizitura-09-20/
LOCATION:Kölcse
CATEGORIES:egynapos vízitúra,Kölcse-Túristvándi,Öreg-Túr,Túr
ORGANIZER;CN="Nagy H%C3%B3d V%C3%ADzit%C3%BAra":MAILTO:info@szeldavizet.hu
END:VEVENT
END:VCALENDAR